BEGIN:VCALENDAR
VERSION:2.0
PRODID:-//ESS Staplerservice GmbH Bischberg
CALSCALE:GREGORIAN
METHOD:PUBLISH
X-WR-CALNAME:ESS Staplerservice GmbH Bischberg
X-ORIGINAL-URL:https://www.ess-staplerservice.de/product/hebebuehnen-schulung-06-07-2026/
X-WR-CALDESC:Hebebühnen-Schulung 06.07.2026
BEGIN:VEVENT
DTSTART:20260706T080000
DTEND:20260706T160000
SUMMARY:Hebebühnen-Schulung 06.07.2026
DESCRIPTION:<strong>Ausbildung der Bediener von Hubarbeitsbühnen</strong>

› Für alle Mitarbeiter, die Hebebühnen / Hubarbeitsbühnen bedienen müssen
› Gemäß DGUV Grundsatz 308-008

› Inklusive theoretischer und praktischer Prüfung
› Inklusive Zeugnis / Zertifikat über die bestandene Prüfung

<strong>Schulungszeiten:</strong>
› Montag: 08-16 Uhr

&nbsp;

<strong>Gebühren:</strong>
› 140,-€ / steuerfreie Leistung<strong>
</strong>

&nbsp;
URL:https://www.ess-staplerservice.de/product/hebebuehnen-schulung-06-07-2026/
LOCATION:ESS Betriebshof | Industriestraße 11 | 96120 Bischberg
END:VEVENT
END:VCALENDAR
